BEGIN:VCALENDAR
VERSION:2.0
PRODID:-//studio.34 - ECPv6.0.5//NONSGML v1.0//EN
CALSCALE:GREGORIAN
METHOD:PUBLISH
X-WR-CALNAME:studio.34
X-ORIGINAL-URL:https://studio34.studio
X-WR-CALDESC:évènements pour studio.34
REFRESH-INTERVAL;VALUE=DURATION:PT1H
X-Robots-Tag:noindex
X-PUBLISHED-TTL:PT1H
BEGIN:VTIMEZONE
TZID:UTC
BEGIN:STANDARD
TZOFFSETFROM:+0000
TZOFFSETTO:+0000
TZNAME:UTC
DTSTART:20210101T000000
END:STANDARD
END:VTIMEZONE
BEGIN:VEVENT
DTSTART;TZID=UTC:20210920T080000
DTEND;TZID=UTC:20210926T170000
DTSTAMP:20260421T123018
CREATED:20260323T113517Z
LAST-MODIFIED:20260325T155758Z
UID:20636-1632124800-1632675600@studio34.studio
SUMMARY:Pop Up- Calher Deleater
DESCRIPTION:CALHER DELAETER\, une nouvelle marque de mode non genrée basée à Paris\, d’inspiration franco-mexicaine et queer. L’histoire de CALHER DELAETER est une histoire de rencontres et d’amour. C’est la rencontre des cultures française et mexicaine et leur fusion en des créations intemporelles. \n(source : https://www.kaltblut-magazine.com/one-to-watch-calher-delaeter/)
URL:https://studio34.studio/evenements/pop-up-calher-deleater/
ATTACH;FMTTYPE=image/jpeg:https://studio34.studio/wp-content/uploads/2026/03/00aef745-80dd-40c1-9617-b50c2ecb86e0.jpg
END:VEVENT
END:VCALENDAR