BEGIN:VCALENDAR
VERSION:2.0
PRODID:-//studio.34 - ECPv6.0.5//NONSGML v1.0//EN
CALSCALE:GREGORIAN
METHOD:PUBLISH
X-ORIGINAL-URL:https://studio34.studio
X-WR-CALDESC:évènements pour studio.34
REFRESH-INTERVAL;VALUE=DURATION:PT1H
X-Robots-Tag:noindex
X-PUBLISHED-TTL:PT1H
BEGIN:VTIMEZONE
TZID:UTC
BEGIN:STANDARD
TZOFFSETFROM:+0000
TZOFFSETTO:+0000
TZNAME:UTC
DTSTART:20210101T000000
END:STANDARD
END:VTIMEZONE
BEGIN:VEVENT
DTSTART;TZID=UTC:20211209T080000
DTEND;TZID=UTC:20211211T170000
DTSTAMP:20260421T073112
CREATED:20260323T100147Z
LAST-MODIFIED:20260325T160717Z
UID:20621-1639036800-1639242000@studio34.studio
SUMMARY:Abigaïl Ferreira-Compagnon - Ombres & Poussières
DESCRIPTION:Ombre & Poussières est un solo show de l’artiste Abigaïl Ferreira-Compagnon réalisé entièrement au fusain\,  \nvisible du 9 décembre 2021 – 11 décembre 2021 au studio 34. 
URL:https://studio34.studio/evenements/ombres-poussieres/
ATTACH;FMTTYPE=image/jpeg:https://studio34.studio/wp-content/uploads/2026/03/E19A92A1-B95D-4568-B05D-4B055C3C4CA2.jpg
END:VEVENT
BEGIN:VEVENT
DTSTART;TZID=UTC:20211215T080000
DTEND;TZID=UTC:20211215T170000
DTSTAMP:20260421T073112
CREATED:20260323T113227Z
LAST-MODIFIED:20260323T113227Z
UID:20632-1639555200-1639587600@studio34.studio
SUMMARY:Les atelier d'invincible Été
DESCRIPTION:Le 15 décembre 2021 la marque invisible été vous invite à participer à un Atelier Cyanotype et Compostelle.  \n“Portées par notre amour du fait main\, du végétal et de la photographie\, nous avons eu la folle envie de remettre en lumière le cyanotype\, cette fabuleuse technique découverte au cœur du XIXe siècle\, puis peu à peu tombée en désuétude. Depuis son lancement\, le 21 juin 2018\, notre marque Invincible été\, nous a permis de marcher dans les traces de la célèbre botaniste Anna Atkins\, d’approfondir ce savoir-faire\, et de plonger dans le monde enchanteur des herbiers.” (source : https://www.invincibleete.com/)
URL:https://studio34.studio/evenements/les-atelier-dinvincible-ete/
ATTACH;FMTTYPE=image/jpeg:https://studio34.studio/wp-content/uploads/2026/03/IMG_9014-rotated.jpg
END:VEVENT
END:VCALENDAR